BEGIN:VCALENDAR
VERSION:2.0
PRODID:-//Young Buddhist Association - ECPv6.15.20//NONSGML v1.0//EN
CALSCALE:GREGORIAN
METHOD:PUBLISH
X-WR-CALNAME:Young Buddhist Association
X-ORIGINAL-URL:https://yba.or.id
X-WR-CALDESC:Events for Young Buddhist Association
REFRESH-INTERVAL;VALUE=DURATION:PT1H
X-Robots-Tag:noindex
X-PUBLISHED-TTL:PT1H
BEGIN:VTIMEZONE
TZID:Asia/Krasnoyarsk
BEGIN:STANDARD
TZOFFSETFROM:+0700
TZOFFSETTO:+0700
TZNAME:+07
DTSTART:20250101T000000
END:STANDARD
END:VTIMEZONE
BEGIN:VEVENT
DTSTART;TZID=Asia/Krasnoyarsk:20260424T140000
DTEND;TZID=Asia/Krasnoyarsk:20260426T120000
DTSTAMP:20260421T081448
CREATED:20260420T104426Z
LAST-MODIFIED:20260420T104632Z
UID:48346-1777039200-1777204800@yba.or.id
SUMMARY:Temple Stay Mahayana 2026
DESCRIPTION:🏔️ Temple Stay Mahayana: Membasuh Batin di Lereng Trawas 🏔️\n“Menepi dari Keramaian\, Menemukan Cahaya di Dalam Diri” \nTemple Stay Mahayana bersama : Y.M. Bhiksu Badra Pala Mahastavira (Suhu Xian Bing) dan Y.M. Bhiksu Sakya Sugata Sthavira (Suhu Neng Xiu). \nApakah Anda merasa lelah dengan rutinitas yang tak kunjung usai? Mari sejenak meletakkan segala beban pikiran dan melangkah ke dalam keheningan yang menyembuhkan. Melalui Temple Stay Mahayana\, kita diajak untuk hidup layaknya praktisi batin\, menyelaraskan napas dengan alam\, dan menyelami kedalaman ajaran Mahayana yang penuh welas asih. \n🌿 Mengapa Anda Harus Hadir? \nDalam Temple Stay ini\, kita tidak hanya sekadar menginap\, tetapi menjalani disiplin batin yang bermakna: \n\nPagi yang Sadar (Morning Chanting & Meditation): Mengawali hari dengan lantunan sutra yang menggetarkan jiwa dan meditasi fajar untuk menjernihkan pikiran di tengah udara sejuk Trawas.\nDharma Desana Mendalam: Sesi kupas tuntas ajaran Mahayana bersama Suhu\, memberikan sudut pandang baru dalam menghadapi tantangan hidup dengan tenang dan bijak.\nPraktik Keheningan Mulia (Noble Silence): Melatih diri untuk berkomunikasi dengan diri sendiri melalui diam\, memutus kebisingan eksternal untuk mendengar suara hati yang paling dalam.\nWalking Meditation di Alam: Menyadari setiap langkah kaki di atas bumi\, membangun koneksi antara tubuh\, pikiran\, dan alam semesta.\nRitual Teh & Kebersamaan: Menikmati momen kehadiran penuh dalam kesederhanaan\, membangun persaudaraan spiritual (Kalyanamitta) yang suportif.\n\n📍 Catat Waktunya:\n🗓 Jumat – Minggu\, 24 – 26 April 2026\n📍 Villa Dharma Ledug\, Trawas\n(Sebuah oase ketenangan yang jauh dari polusi suara dan udara kota). \n  \n✨ Buka pintu hati Anda untuk transformasi ini. ✨\nKegiatan ini terbuka bagi siapa saja yang merindukan kedamaian dan ingin memperdalam praktik spiritual dalam tradisi Mahayana yang hangat. \nInformasi & Pendaftaran:\n📞 Celine – 0812-3456-3820\n🌐 https://yba.or.id/templestay \n“Saat pikiran tenang\, seluruh dunia menjadi tenang. Mari pulang ke rumah batin yang sejati“
URL:https://yba.or.id/upcoming-events/temple-stay-mahayana/
ATTACH;FMTTYPE=image/jpeg:https://yba.or.id/wp-content/uploads/2026/04/WhatsApp-Image-2026-04-17-at-12.03.53.jpeg
END:VEVENT
BEGIN:VEVENT
DTSTART;TZID=Asia/Krasnoyarsk:20260426T170000
DTEND;TZID=Asia/Krasnoyarsk:20260428T200000
DTSTAMP:20260421T081448
CREATED:20260421T050911Z
LAST-MODIFIED:20260421T073758Z
UID:48357-1777222800-1777406400@yba.or.id
SUMMARY:Grand Mindful Connect 6 bersama Y.M. Bhiksu Sakya Sugata Sthavira
DESCRIPTION:🦋 Grand Mindful Connect 6: Brahma Vihara as the Power of Butterfly Effect 🦋\n“Satu kepakan sayap kasih\, mampu mengubah tatanan semesta batin” \nTahukah Anda bahwa satu pikiran cinta kasih yang tulus\, atau satu tindakan kepedulian kecil\, dapat memicu rangkaian perubahan besar dalam hidup Anda dan orang-orang di sekitar? Inilah keajaiban Butterfly Effect yang berakar pada Brahma Vihara. \nDalam Grand Mindful Connect 6\, kita akan menjelajahi bagaimana empat kediaman luhur—Cinta Kasih (Metta)\, Kasih Sayang (Karuna)\, Simpati (Mudita)\, dan Keseimbangan Batin (Upekkha)—bukan sekadar konsep abstrak\, melainkan kekuatan dinamis yang mampu menciptakan resonansi positif tanpa batas. \n🎙️ Pembicara Utama\n🙏 Y.M. Bhiksu Sakya Sugata Sthavira (Suhu Neng Xiu)\nSeorang guru yang dikenal dengan pembawaannya yang tenang dan kemampuannya mengontekstualisasikan ajaran klasik Mahayana ke dalam relevansi kehidupan modern. \n🌟 Apa yang akan Anda Temukan? \n\nThe Science of Compassion: Memahami bagaimana vibrasi Brahma Vihara bekerja layaknya Butterfly Effect dalam interaksi sosial dan kesehatan mental.\nMindful Transformation: Teknik praktis untuk mengubah pola pikir negatif menjadi energi kasih yang memberdayakan.\nConnecting Souls: Sesi interaktif untuk mempererat koneksi antarsesama melalui kesadaran penuh (mindfulness).\nInner Peace Activation: Meditasi terbimbing untuk mengaktifkan benih-benih kebajikan di dalam diri.\n\n🗓️ Detail Acara:\n📅 Minggu\, 26 April 2026\n⏰ 18.00 WIB – selesai.\n📍 Ruang Menyala OCBC\, Ciputra World. \n✨ Jangan remehkan satu kebaikan kecil yang Anda mulai hari ini. ✨\nMari bergabung dalam lingkaran energi positif ini dan jadilah bagian dari perubahan besar yang dimulai dari ketenangan batin. \n“Because your mindfulness is the wing that starts the ripple of peace“
URL:https://yba.or.id/upcoming-events/grand-mindful-connect-6-bersama-y-m-bhiksu-sakya-sugata-sthavira/
ATTACH;FMTTYPE=image/jpeg:https://yba.or.id/wp-content/uploads/2026/04/WhatsApp-Image-2026-04-19-at-08.08.30.jpeg
END:VEVENT
END:VCALENDAR